Workbook

Sheet Titelblatt
K3: September 2026
B4: Bruttoinlandsprodukt in jeweiligen Preisen im
B5: Regionalverband FrankfurtRheinMain und in den
B6: hessischen Sonderstatus-Städten 2014 bis 2024
B8: Berechnungsstand: August 2025

Sheet Impressum
B1: Hessisches Statistisches Landesamt, Wiesbaden
B6: Impressum
B8: Dienstgebäude: Rheinstraße 35/37, 65185 Wiesbaden
B9: Briefadresse: 65175 Wiesbaden
B11: Kontakt für Fragen und Anregungen zu dieser Tabelle
B12: Natascha Michel | F12: 0611 3802-819
B13: Leander Klein | F13: 0611 3802-698
B14: E-Mail | F14: vgr-he@statistik.hessen.de
B15: Internet | F15: https://statistik.hessen.de
B17: Copyright
B18: © Hessisches Statistisches Landesamt, Wiesbaden, 2026
B19: Vervielfältigung und Verbreitung, auch auszugsweise, mit Quellenangabe gestattet.
B21: Allgemeine Geschäftsbedingungen
B22: Die Allgemeinen Geschäftsbedingungen sind abrufbar unter:
B23: https://statistik.hessen.de/ueber-uns/datenanfragen-und-services
B26: Zeichenerklärungen
B27: — | C27: = | D27: genau Null (nichts vorhanden) bzw. keine Veränderung eingetreten
B28: 0 | C28: = | D28: Zahlenwert ungleich Null, Betrag jedoch kleiner als die Hälfte von 1 in der
D29: letzten besetzten Stelle
B30: • | C30: = | D30: Zahlenwert unbekannt oder geheim zu halten
B31: . . . | C31: = | D31: Zahlenwert lag bei Redaktionsschluss noch nicht vor
B32: () | C32: = | D32: Aussagewert eingeschränkt, da der Zahlenwert statistisch unsicher ist
B33: / | C33: = | D33: keine Angabe, da Zahlenwert nicht sicher genug
B34: x | C34: = | D34: Tabellenfeld gesperrt, weil Aussage nicht sinnvoll
D35: (oder bei Veränderungsraten ist die Ausgangszahl kleiner als 100)
B36: D | C36: = | D36: Durchschnitt
B37: s | C37: = | D37: geschätzte Zahl
B38: p | C38: = | D38: vorläufige Zahl
B39: r | C39: = | D39: berichtigte Zahl
B41: Aus Gründen der Übersichtlichkeit sind nur negative Veränderungsraten und Salden mit einem
B42: Vorzeichen versehen. Positive Veränderungsraten und Salden sind ohne Vorzeichen.
B43: Im Allgemeinen ist ohne Rücksicht auf die Endsumme auf- bzw. abgerundet worden.
B44: Das Ergebnis der Summierung der Einzelzahlen kann deshalb geringfügig von der
B45: Endsumme abweichen.

Sheet Tabelle
A1: =Tabelle_Aufbereitung!$E$3&" im Regionalverband FrankfurtRheinMain und in den hessischen Sonderstatus-Städten "&Tabelle_Aufbereitung!$C$3&""&"¹⁾" -> Bruttoinlandsprodukt in jeweiligen Preisen im Regionalverband FrankfurtRheinMain und in den hessischen Sonderstatus-Städten 2024¹⁾
A2: Auswahl Berichtsjahr
A3: Gebiet | B3: Bruttoinlandsprodukt
B4: Millionen Euro | C4: je Einwohner/-in | D4: je erwerbstätige Person
C5: Euro
A6: Regionalverband FrankfurtRheinMain | B6: =Tabelle_Aufbereitung!C9 -> 188197.25 | C6: =Tabelle_Aufbereitung!D9 -> 77542 | D6: =Tabelle_Aufbereitung!E9 -> 116172
A7: Rüsselsheim am Main, Stadt | B7: =Tabelle_Aufbereitung!C10 -> 4645.856 | C7: =Tabelle_Aufbereitung!D10 -> 70803 | D7: =Tabelle_Aufbereitung!E10 -> 130921
A8: Bad Homburg v. d. Höhe, Stadt, Kurstadt | B8: =Tabelle_Aufbereitung!C11 -> 6451.165 | C8: =Tabelle_Aufbereitung!D11 -> 114600 | D8: =Tabelle_Aufbereitung!E11 -> 141313
A9: Hanau, Brüder-Grimm-Stadt | B9: =Tabelle_Aufbereitung!C12 -> 6148.517 | C9: =Tabelle_Aufbereitung!D12 -> 63145 | D9: =Tabelle_Aufbereitung!E12 -> 99785
A10: Gießen, Universitätsstadt | B10: =Tabelle_Aufbereitung!C13 -> 6888.718 | C10: =Tabelle_Aufbereitung!D13 -> 77353 | D10: =Tabelle_Aufbereitung!E13 -> 90561
A11: Wetzlar, Stadt | B11: =Tabelle_Aufbereitung!C14 -> 3620.357 | C11: =Tabelle_Aufbereitung!D14 -> 66533 | D11: =Tabelle_Aufbereitung!E14 -> 88315
A12: Marburg, Universitätsstadt | B12: =Tabelle_Aufbereitung!C15 -> 5693.082 | C12: =Tabelle_Aufbereitung!D15 -> 77326 | D12: =Tabelle_Aufbereitung!E15 -> 86869
A13: Fulda, Stadt | B13: =Tabelle_Aufbereitung!C16 -> 5998.285 | C13: =Tabelle_Aufbereitung!D16 -> 91459 | D13: =Tabelle_Aufbereitung!E16 -> 84413
A14: Hessen2) | B14: =Tabelle_Aufbereitung!C17 -> 371367.81 | C14: =Tabelle_Aufbereitung!D17 -> 59190 | D14: =Tabelle_Aufbereitung!E17 -> 102767
A15: ________
A16: 1) Quelle: eigene Berechnungen. — 2) Quelle: Arbeitskreis "Volkswirtschaftliche Gesamtrechnungen der Länder", Berechnungsstand: August 2025.
A17: © Hessisches Statistisches Landesamt, Wiesbaden, 2026. Vervielfältigung und Verbreitung, auch auszugsweise, mit Quellenangabe gestattet.

Sheet Tabelle_Aufbereitung
B3: Jahr | C3: {=INDEX(Codes!$A$3:$A$100,Codes!$A$1)} -> 2024 | D3: Aggregat | E3: {=INDEX(Codes!$B$3:$B$5,Codes!$B$1)} -> Bruttoinlandsprodukt in jeweiligen Preisen
B7: Region | C7: Bruttoinlandsprodukt in jeweiligen Preisen | D7: BIP je Einwohner/-in | E7: BIP je erwerbstätige Person
C8: in Millionen Euro | D8: in Euro
B9: Regionalverband Frankfurt/RheinMain | C9: =SUMIFS(Daten!$F:$F,Daten!$B:$B,Tabelle_Aufbereitung!$C$7,Daten!$D:$D,Tabelle_Aufbereitung!C$3,Daten!$E:$E,Tabelle_Aufbereitung!$B9) -> 188197.25 | D9: =SUMIFS(Daten!$F:$F,Daten!$B:$B,Tabelle_Aufbereitung!$D$7,Daten!$D:$D,Tabelle_Aufbereitung!C$3,Daten!$E:$E,Tabelle_Aufbereitung!$B9) -> 77542 | E9: =SUMIFS(Daten!$F:$F,Daten!$B:$B,Tabelle_Aufbereitung!$E$7,Daten!$D:$D,Tabelle_Aufbereitung!C$3,Daten!$E:$E,Tabelle_Aufbereitung!$B9) -> 116172
B10: Rüsselsheim | C10: =SUMIFS(Daten!$F:$F,Daten!$B:$B,Tabelle_Aufbereitung!$C$7,Daten!$D:$D,Tabelle_Aufbereitung!C$3,Daten!$E:$E,Tabelle_Aufbereitung!$B10) -> 4645.856 | D10: =SUMIFS(Daten!$F:$F,Daten!$B:$B,Tabelle_Aufbereitung!$D$7,Daten!$D:$D,Tabelle_Aufbereitung!C$3,Daten!$E:$E,Tabelle_Aufbereitung!$B10) -> 70803 | E10: =SUMIFS(Daten!$F:$F,Daten!$B:$B,Tabelle_Aufbereitung!$E$7,Daten!$D:$D,Tabelle_Aufbereitung!C$3,Daten!$E:$E,Tabelle_Aufbereitung!$B10) -> 130921
B11: Bad Homburg | C11: =SUMIFS(Daten!$F:$F,Daten!$B:$B,Tabelle_Aufbereitung!$C$7,Daten!$D:$D,Tabelle_Aufbereitung!C$3,Daten!$E:$E,Tabelle_Aufbereitung!$B11) -> 6451.165 | D11: =SUMIFS(Daten!$F:$F,Daten!$B:$B,Tabelle_Aufbereitung!$D$7,Daten!$D:$D,Tabelle_Aufbereitung!C$3,Daten!$E:$E,Tabelle_Aufbereitung!$B11) -> 114600 | E11: =SUMIFS(Daten!$F:$F,Daten!$B:$B,Tabelle_Aufbereitung!$E$7,Daten!$D:$D,Tabelle_Aufbereitung!C$3,Daten!$E:$E,Tabelle_Aufbereitung!$B11) -> 141313
B12: Hanau, Brüder-Grimm-Stadt | C12: =SUMIFS(Daten!$F:$F,Daten!$B:$B,Tabelle_Aufbereitung!$C$7,Daten!$D:$D,Tabelle_Aufbereitung!C$3,Daten!$E:$E,Tabelle_Aufbereitung!$B12) -> 6148.517 | D12: =SUMIFS(Daten!$F:$F,Daten!$B:$B,Tabelle_Aufbereitung!$D$7,Daten!$D:$D,Tabelle_Aufbereitung!C$3,Daten!$E:$E,Tabelle_Aufbereitung!$B12) -> 63145 | E12: =SUMIFS(Daten!$F:$F,Daten!$B:$B,Tabelle_Aufbereitung!$E$7,Daten!$D:$D,Tabelle_Aufbereitung!C$3,Daten!$E:$E,Tabelle_Aufbereitung!$B12) -> 99785
B13: Gießen | C13: =SUMIFS(Daten!$F:$F,Daten!$B:$B,Tabelle_Aufbereitung!$C$7,Daten!$D:$D,Tabelle_Aufbereitung!C$3,Daten!$E:$E,Tabelle_Aufbereitung!$B13) -> 6888.718 | D13: =SUMIFS(Daten!$F:$F,Daten!$B:$B,Tabelle_Aufbereitung!$D$7,Daten!$D:$D,Tabelle_Aufbereitung!C$3,Daten!$E:$E,Tabelle_Aufbereitung!$B13) -> 77353 | E13: =SUMIFS(Daten!$F:$F,Daten!$B:$B,Tabelle_Aufbereitung!$E$7,Daten!$D:$D,Tabelle_Aufbereitung!C$3,Daten!$E:$E,Tabelle_Aufbereitung!$B13) -> 90561
B14: Wetzlar | C14: =SUMIFS(Daten!$F:$F,Daten!$B:$B,Tabelle_Aufbereitung!$C$7,Daten!$D:$D,Tabelle_Aufbereitung!C$3,Daten!$E:$E,Tabelle_Aufbereitung!$B14) -> 3620.357 | D14: =SUMIFS(Daten!$F:$F,Daten!$B:$B,Tabelle_Aufbereitung!$D$7,Daten!$D:$D,Tabelle_Aufbereitung!C$3,Daten!$E:$E,Tabelle_Aufbereitung!$B14) -> 66533 | E14: =SUMIFS(Daten!$F:$F,Daten!$B:$B,Tabelle_Aufbereitung!$E$7,Daten!$D:$D,Tabelle_Aufbereitung!C$3,Daten!$E:$E,Tabelle_Aufbereitung!$B14) -> 88315
B15: Marburg | C15: =SUMIFS(Daten!$F:$F,Daten!$B:$B,Tabelle_Aufbereitung!$C$7,Daten!$D:$D,Tabelle_Aufbereitung!C$3,Daten!$E:$E,Tabelle_Aufbereitung!$B15) -> 5693.082 | D15: =SUMIFS(Daten!$F:$F,Daten!$B:$B,Tabelle_Aufbereitung!$D$7,Daten!$D:$D,Tabelle_Aufbereitung!C$3,Daten!$E:$E,Tabelle_Aufbereitung!$B15) -> 77326 | E15: =SUMIFS(Daten!$F:$F,Daten!$B:$B,Tabelle_Aufbereitung!$E$7,Daten!$D:$D,Tabelle_Aufbereitung!C$3,Daten!$E:$E,Tabelle_Aufbereitung!$B15) -> 86869
B16: Fulda | C16: =SUMIFS(Daten!$F:$F,Daten!$B:$B,Tabelle_Aufbereitung!$C$7,Daten!$D:$D,Tabelle_Aufbereitung!C$3,Daten!$E:$E,Tabelle_Aufbereitung!$B16) -> 5998.285 | D16: =SUMIFS(Daten!$F:$F,Daten!$B:$B,Tabelle_Aufbereitung!$D$7,Daten!$D:$D,Tabelle_Aufbereitung!C$3,Daten!$E:$E,Tabelle_Aufbereitung!$B16) -> 91459 | E16: =SUMIFS(Daten!$F:$F,Daten!$B:$B,Tabelle_Aufbereitung!$E$7,Daten!$D:$D,Tabelle_Aufbereitung!C$3,Daten!$E:$E,Tabelle_Aufbereitung!$B16) -> 84413
B17: H e s s e n | C17: =SUMIFS(Daten!$F:$F,Daten!$B:$B,Tabelle_Aufbereitung!$C$7,Daten!$D:$D,Tabelle_Aufbereitung!C$3,Daten!$E:$E,Tabelle_Aufbereitung!$B17) -> 371367.81 | D17: =SUMIFS(Daten!$F:$F,Daten!$B:$B,Tabelle_Aufbereitung!$D$7,Daten!$D:$D,Tabelle_Aufbereitung!C$3,Daten!$E:$E,Tabelle_Aufbereitung!$B17) -> 59190 | E17: =SUMIFS(Daten!$F:$F,Daten!$B:$B,Tabelle_Aufbereitung!$E$7,Daten!$D:$D,Tabelle_Aufbereitung!C$3,Daten!$E:$E,Tabelle_Aufbereitung!$B17) -> 102767

Sheet Daten
A1: AGS | B1: Aggregat | C1: Einheit | D1: Jahr | E1: Region | F1: Wert | G1: Berechnungsstand
A2: 06900000 | B2: Bruttoinlandsprodukt in jeweiligen Preisen | C2: in Millionen Euro | D2: 2014 | E2: Regionalverband Frankfurt/RheinMain | F2: 132851.47 | G2: Berechnungsstand: August 2025
A3: 06433012 | B3: Bruttoinlandsprodukt in jeweiligen Preisen | C3: in Millionen Euro | D3: 2014 | E3: Rüsselsheim | F3: 4399.942 | G3: Berechnungsstand: August 2025
A4: 06434001 | B4: Bruttoinlandsprodukt in jeweiligen Preisen | C4: in Millionen Euro | D4: 2014 | E4: Bad Homburg | F4: 4690.14 | G4: Berechnungsstand: August 2025
A5: 06435014 | B5: Bruttoinlandsprodukt in jeweiligen Preisen | C5: in Millionen Euro | D5: 2014 | E5: Hanau, Brüder-Grimm-Stadt | F5: 4551.491 | G5: Berechnungsstand: August 2025
A6: 06531005 | B6: Bruttoinlandsprodukt in jeweiligen Preisen | C6: in Millionen Euro | D6: 2014 | E6: Gießen | F6: 4564.817 | G6: Berechnungsstand: August 2025
A7: 06532023 | B7: Bruttoinlandsprodukt in jeweiligen Preisen | C7: in Millionen Euro | D7: 2014 | E7: Wetzlar | F7: 2564.444 | G7: Berechnungsstand: August 2025
A8: 06534014 | B8: Bruttoinlandsprodukt in jeweiligen Preisen | C8: in Millionen Euro | D8: 2014 | E8: Marburg | F8: 3887.513 | G8: Berechnungsstand: August 2025
A9: 06631009 | B9: Bruttoinlandsprodukt in jeweiligen Preisen | C9: in Millionen Euro | D9: 2014 | E9: Fulda | F9: 4231.691 | G9: Berechnungsstand: August 2025
A10: 06 | B10: Bruttoinlandsprodukt in jeweiligen Preisen | C10: in Millionen Euro | D10: 2014 | E10: H e s s e n | F10: 260622.09 | G10: Berechnungsstand: August 2025
A11: 06900000 | B11: BIP je Einwohner/-in | C11: in Euro | D11: 2014 | E11: Regionalverband Frankfurt/RheinMain | F11: 59023 | G11: Berechnungsstand: August 2025
A12: 06433012 | B12: BIP je Einwohner/-in | C12: in Euro | D12: 2014 | E12: Rüsselsheim | F12: 72395 | G12: Berechnungsstand: August 2025
A13: 06434001 | B13: BIP je Einwohner/-in | C13: in Euro | D13: 2014 | E13: Bad Homburg | F13: 89209 | G13: Berechnungsstand: August 2025
... A298: 06 | B298: BIP je erwerbstätige Person | C298: in Euro | D298: 2024 | E298: H e s s e n | F298: 102767 | G298: Berechnungsstand: August 2025

Sheet Codes
A1: 11 | B1: 1
A2: Jahre | B2: Aggregat
A3: 2014 | B3: Bruttoinlandsprodukt in jeweiligen Preisen
A4: 2015 | B4: Bruttoinlandsprodukt in jeweiligen Preisen
A5: 2016 | B5: Bruttoinlandsprodukt in jeweiligen Preisen
A6: 2017 | B6: Bruttoinlandsprodukt in jeweiligen Preisen
A7: 2018 | B7: Bruttoinlandsprodukt in jeweiligen Preisen
A8: 2019 | B8: Bruttoinlandsprodukt in jeweiligen Preisen
A9: 2020 | B9: Bruttoinlandsprodukt in jeweiligen Preisen
A10: 2021 | B10: Bruttoinlandsprodukt in jeweiligen Preisen
A11: 2022 | B11: Bruttoinlandsprodukt in jeweiligen Preisen
A12: 2023 | B12: Bruttoinlandsprodukt in jeweiligen Preisen
A13: 2024 | B13: Bruttoinlandsprodukt in jeweiligen Preisen
